BEGIN:VCALENDAR
VERSION:2.0
PRODID:-//www.disabilityrightsnebraska.org//NONSGML kigkonsult.se iCalcreat
 or 2.30.10//
CALSCALE:GREGORIAN
METHOD:PUBLISH
UID:78531dad-57fc-4d57-bda5-9a7da9f17270
X-WR-CALDESC:LB 680 - Adopt the Interstate Placement for Involuntarily Admi
 tted Patients Agreement Act\n\nThe purpose of the Interstate Placement for
  Involuntarily Admitted Patients Agreement Act is to enable appropriate be
 havioral health services to be provided to individuals\, across state line
 s from the individual's state of residence\, in qualified health care faci
 lities that are closer to the homes of individuals than are health care fa
 cilities available in the individual's home state.  Disability Rights Nebr
 aska intends to monitor LB 680.
X-WR-RELCALID:889178c6d9db0ee3fa81a3d91f07c1d1
X-WR-TIMEZONE:America/Chicago
BEGIN:VTIMEZONE
TZID:America/Chicago
BEGIN:STANDARD
TZNAME:CST
DTSTART:20171105T020000
TZOFFSETFROM:-0500
TZOFFSETTO:-0600
RDATE:20181104T020000
END:STANDARD
BEGIN:DAYLIGHT
TZNAME:CDT
DTSTART:20170312T020000
TZOFFSETFROM:-0600
TZOFFSETTO:-0500
RDATE:20180311T020000
RDATE:20190310T020000
END:DAYLIGHT
END:VTIMEZONE
BEGIN:VEVENT
UID:3c2800b2-49aa-4513-af14-9722ea382ee5
DTSTAMP:20260421T232211Z
DESCRIPTION:LB 680 - Adopt the Interstate Placement for Involuntarily Admit
 ted Patients Agreement Act\n\nThe purpose of the Interstate Placement for 
 Involuntarily Admitted Patients Agreement Act is to enable appropriate beh
 avioral health services to be provided to individuals\, across state lines
  from the individual's state of residence\, in qualified health care facil
 ities that are closer to the homes of individuals than are health care fac
 ilities available in the individual's home state.  Disability Rights Nebra
 ska intends to monitor LB 680.
DTSTART;TZID=America/Chicago:20180227T133000
DTEND;TZID=America/Chicago:20180227T170000
LOCATION:Nebraska State Capitol\, Judiciary\, Room 1113
SUMMARY:LB 680 Hearing
END:VEVENT
END:VCALENDAR
