BEGIN:VCALENDAR
VERSION:2.0
PRODID:-//www.disabilityrightsnebraska.org//NONSGML kigkonsult.se iCalcreat
 or 2.30.10//
CALSCALE:GREGORIAN
METHOD:PUBLISH
UID:e574cc57-1a6e-4f53-8fd3-1930139176f9
X-WR-CALDESC:From the Autism Family Network:  Please join us at the April 2
  Proclamation ceremony at the Nebraska State Capitol as April is proclaime
 d Autism Awareness Month in Nebraska.  The ceremony will be held at the Wa
 rner Chamber which is on the 2nd floor of the Nebraska State Capitol in th
 e Warner Chamber at 11:00a.m. Cathy Martinez will be speaking at the cerem
 ony on behalf of all the autism groups.  Cathy and Mike from the Autism So
 ciety of Nebraska will then accept copies of the proclamation after it's b
 een signed.  \nThen also join us that evening from 7-9pm on the west side 
 of the capitol building as the capitol turns blue in honor of World Autism
  Awareness Day.  We will have an autism banner for you to sign in honor of
  someone with autism. \n
X-WR-RELCALID:52716d9ef2e580ac5f6bc45937954eab
X-WR-TIMEZONE:America/Chicago
BEGIN:VTIMEZONE
TZID:America/Chicago
BEGIN:STANDARD
TZNAME:CST
DTSTART:20171105T020000
TZOFFSETFROM:-0500
TZOFFSETTO:-0600
RDATE:20181104T020000
END:STANDARD
BEGIN:DAYLIGHT
TZNAME:CDT
DTSTART:20180311T020000
TZOFFSETFROM:-0600
TZOFFSETTO:-0500
RDATE:20190310T020000
END:DAYLIGHT
END:VTIMEZONE
BEGIN:VEVENT
UID:0a30829e-f4f0-4b56-98d9-a8b08d29d0fe
DTSTAMP:20260421T194651Z
DESCRIPTION:From the Autism Family Network:  Please join us at the April 2 
 Proclamation ceremony at the Nebraska State Capitol as April is proclaimed
  Autism Awareness Month in Nebraska.  The ceremony will be held at the War
 ner Chamber which is on the 2nd floor of the Nebraska State Capitol in the
  Warner Chamber at 11:00a.m. Cathy Martinez will be speaking at the ceremo
 ny on behalf of all the autism groups.  Cathy and Mike from the Autism Soc
 iety of Nebraska will then accept copies of the proclamation after it's be
 en signed.  \nThen also join us that evening from 7-9pm on the west side o
 f the capitol building as the capitol turns blue in honor of World Autism 
 Awareness Day.  We will have an autism banner for you to sign in honor of 
 someone with autism. \n
DTSTART;TZID=America/Chicago:20180402T110000
DTEND;TZID=America/Chicago:20180402T120000
LOCATION:Warner Chamber\, State Capitol\, Lincoln NE
SUMMARY:Autism Awareness Month Proclamation
END:VEVENT
END:VCALENDAR
