BEGIN:VCALENDAR
VERSION:2.0
PRODID:-//www.disabilityrightsnebraska.org//NONSGML kigkonsult.se iCalcreat
 or 2.30.10//
CALSCALE:GREGORIAN
METHOD:PUBLISH
UID:0d241ebd-31b9-429a-a432-d2146d6cb7dc
X-WR-CALDESC:Public Comment will be from 11am-Noon.\nWe Want to hear from Y
 ou!\nIf you are interested in:\n*Ensuring that people with disabilities ar
 e free from abuse and neglect\n*Expanding opportunities for people with di
 sabilities to live\, learn and work in the most inclusive settings\n*Engag
 ing people with disabilities in advocacy\n*Or any other issues that affect
  people with disabilities \nJoin us on June 9th!\nAmerican Sign Language a
 nd Spanish interpreters will be available.\n
X-WR-RELCALID:1abc94648ed8d59eae48a718f754c939
X-WR-TIMEZONE:America/Chicago
BEGIN:VTIMEZONE
TZID:America/Chicago
BEGIN:STANDARD
TZNAME:CST
DTSTART:20171105T020000
TZOFFSETFROM:-0500
TZOFFSETTO:-0600
RDATE:20181104T020000
RDATE:20191103T020000
END:STANDARD
BEGIN:DAYLIGHT
TZNAME:CDT
DTSTART:20180311T020000
TZOFFSETFROM:-0600
TZOFFSETTO:-0500
RDATE:20190310T020000
END:DAYLIGHT
END:VTIMEZONE
BEGIN:VEVENT
UID:9847d0f2-2d02-43ac-8b1e-256f71d7a0f9
DTSTAMP:20260421T162930Z
DESCRIPTION:Public Comment will be from 11am-Noon.\nWe Want to hear from Yo
 u!\nIf you are interested in:\n*Ensuring that people with disabilities are
  free from abuse and neglect\n*Expanding opportunities for people with dis
 abilities to live\, learn and work in the most inclusive settings\n*Engagi
 ng people with disabilities in advocacy\n*Or any other issues that affect 
 people with disabilities \nJoin us on June 9th!\nAmerican Sign Language an
 d Spanish interpreters will be available.\n
DTSTART;TZID=America/Chicago:20180609T100000
DTEND;TZID=America/Chicago:20180609T140000
LOCATION:Great Plains Paralyzed Veterans of America- 7612 Maple Street Omah
 a NE
SUMMARY:Annual Public Meeting
END:VEVENT
END:VCALENDAR
