BEGIN:VCALENDAR
VERSION:2.0
PRODID:-//www.disabilityrightsnebraska.org//NONSGML kigkonsult.se iCalcreat
 or 2.30.10//
CALSCALE:GREGORIAN
METHOD:PUBLISH
UID:c752d9d6-3f03-49c1-8664-39cde9bfa09e
X-WR-CALDESC:Disability Rights Nebraska invites you to join us for a very s
 pecial night at the ballpark with the Western Nebraska Pioneers! On Monday
 \, July 9\, the Pioneers take on the Souris Valley Sabre Dogs at 6:35 p.m.
  at Oregon Trail Park Stadium. Why is this important? Because we’re joinin
 g forces with the Pioneers to help raise funds for DRNE and you are the ke
 y!\n\nHere’s how it works: just purchase bleacher tickets at $7 each to th
 e game\, and half the ticket proceeds go directly to our programs. Just cl
 ick the link below\, then use the promotional code “DRNE” to purchase your
  tickets online before they go on sale to the general public. You’ll recei
 ve your tickets in a .pdf through e-mail. \n\nIf you’d like to support the
  program but can’t attend the game\, you can forward your .pdf ticket to s
 omeone who can. Buy them a night of fun at the ballpark!\n\nWe ask that yo
 u please distribute this ticket sales link to everyone you know – the more
  tickets we sell\, the more funds we raise!
X-WR-RELCALID:ce3315f469ed5532152b17f4fcaaae7e
X-WR-TIMEZONE:America/Chicago
BEGIN:VTIMEZONE
TZID:America/Chicago
BEGIN:STANDARD
TZNAME:CST
DTSTART:20171105T020000
TZOFFSETFROM:-0500
TZOFFSETTO:-0600
RDATE:20181104T020000
RDATE:20191103T020000
END:STANDARD
BEGIN:DAYLIGHT
TZNAME:CDT
DTSTART:20180311T020000
TZOFFSETFROM:-0600
TZOFFSETTO:-0500
RDATE:20190310T020000
END:DAYLIGHT
END:VTIMEZONE
BEGIN:VEVENT
UID:6d706dc8-de11-40dd-8c54-acc37916045c
DTSTAMP:20260421T150220Z
DESCRIPTION:Disability Rights Nebraska invites you to join us for a very sp
 ecial night at the ballpark with the Western Nebraska Pioneers! On Monday\
 , July 9\, the Pioneers take on the Souris Valley Sabre Dogs at 6:35 p.m. 
 at Oregon Trail Park Stadium. Why is this important? Because we’re joining
  forces with the Pioneers to help raise funds for DRNE and you are the key
 !\n\nHere’s how it works: just purchase bleacher tickets at $7 each to the
  game\, and half the ticket proceeds go directly to our programs. Just cli
 ck the link below\, then use the promotional code “DRNE” to purchase your 
 tickets online before they go on sale to the general public. You’ll receiv
 e your tickets in a .pdf through e-mail. \n\nIf you’d like to support the 
 program but can’t attend the game\, you can forward your .pdf ticket to so
 meone who can. Buy them a night of fun at the ballpark!\n\nWe ask that you
  please distribute this ticket sales link to everyone you know – the more 
 tickets we sell\, the more funds we raise!
DTSTART;TZID=America/Chicago:20180709T183500
DTEND;TZID=America/Chicago:20180709T220000
LOCATION:Oregon Trail Park Stadium
SUMMARY:Pioneers Baseball Game
END:VEVENT
END:VCALENDAR
