BEGIN:VCALENDAR
VERSION:2.0
PRODID:-//www.disabilityrightsnebraska.org//NONSGML kigkonsult.se iCalcreat
 or 2.30.10//
CALSCALE:GREGORIAN
METHOD:PUBLISH
UID:a17e96d7-699c-48fb-8cd3-0ffd36cdea15
X-WR-CALDESC:DO YOU HAVE A VISION FOR YOUR CHILD’S FUTURE?\nThat’s a big qu
 estion-especially if your child has a disability.  “It’s All About The Pla
 n!” is a series of three informative sessions to help you answer that ques
 tion.  Nebraska professionals will address topics such as:\n	-Education rig
 hts\n	-Advocacy (for you and your child)\n	-Benefits and financial planning 
 for people with disabilities\n	-Community living\, employment\, postseconda
 ry education\, and healthcare \nWHO’S INVITED?\nSessions are for parents a
 nd family members of students with disabilities ages 14 to 21. Students ar
 e welcome to attend with their families. \nWHAT DOES IT COST?\nIt’s free….
 Thank to a Nebraska VR grant awarded to a partnership between Disability R
 ights Nebraska\, Fritz & O’Hare Associates and Arc of Lincoln/Autism Famil
 y Network. \nIf you would like to register or have questions\, please cont
 act Vicki Depenbusch at 402-421-8866 or autismfamilynetworklincoln@gmail.c
 om\n
X-WR-RELCALID:91c7f8c2129c113ec34295e14c1e26e9
X-WR-TIMEZONE:America/Chicago
BEGIN:VTIMEZONE
TZID:America/Chicago
BEGIN:STANDARD
TZNAME:CST
DTSTART:20171105T020000
TZOFFSETFROM:-0500
TZOFFSETTO:-0600
RDATE:20181104T020000
RDATE:20191103T020000
END:STANDARD
BEGIN:DAYLIGHT
TZNAME:CDT
DTSTART:20180311T020000
TZOFFSETFROM:-0600
TZOFFSETTO:-0500
RDATE:20190310T020000
END:DAYLIGHT
END:VTIMEZONE
BEGIN:VEVENT
UID:985a1287-fa2a-4187-b6ed-80acdb2e551f
DTSTAMP:20260421T150436Z
DESCRIPTION:DO YOU HAVE A VISION FOR YOUR CHILD’S FUTURE?\nThat’s a big que
 stion-especially if your child has a disability.  “It’s All About The Plan
 !” is a series of three informative sessions to help you answer that quest
 ion.  Nebraska professionals will address topics such as:\n	-Education righ
 ts\n	-Advocacy (for you and your child)\n	-Benefits and financial planning f
 or people with disabilities\n	-Community living\, employment\, postsecondar
 y education\, and healthcare \nWHO’S INVITED?\nSessions are for parents an
 d family members of students with disabilities ages 14 to 21. Students are
  welcome to attend with their families. \nWHAT DOES IT COST?\nIt’s free….T
 hank to a Nebraska VR grant awarded to a partnership between Disability Ri
 ghts Nebraska\, Fritz & O’Hare Associates and Arc of Lincoln/Autism Family
  Network. \nIf you would like to register or have questions\, please conta
 ct Vicki Depenbusch at 402-421-8866 or autismfamilynetworklincoln@gmail.co
 m\n
DTSTART;TZID=America/Chicago:20180716T173000
DTEND;TZID=America/Chicago:20180716T193000
LOCATION:Lewis and Clark Interpretive Trail & Visitor Center 100 Valmont Dr
 ive Nebraska City
SUMMARY:It's All About The Plan!
END:VEVENT
END:VCALENDAR
