BEGIN:VCALENDAR
VERSION:2.0
PRODID:-//www.disabilityrightsnebraska.org//NONSGML kigkonsult.se iCalcreat
 or 2.30.10//
CALSCALE:GREGORIAN
METHOD:PUBLISH
UID:5f195e8b-3971-4aa8-adcc-48d01e60c03a
X-WR-CALDESC:The Social Role Valorization Workshop is designed to assist pa
 rticipants to better understand the lives of people who are marginalized a
 nd devalued in our society\, learn about the concept of Social Role Valori
 zation\, have an opportunity to examine personal values and commitments to
  those who are devalued\, and renew passionate commitment to these individ
 uals. The workshop will be presented by Darcy Elks\, M.A.\, who has extens
 ive experience with those who are societally devalued and has worked throu
 ghout the United States\, Canada\, and Australia. Additionally\, Darcy has
  been an active advocate for persons with disabilities. Anyone who serious
 ly desires to gain a deeper understanding of societal devaluation and desi
 res to work to make life better for such persons is welcome to attend the 
 Social Role Valorization Workshop. If you are interested in attending\, se
 e the flyer and registration forms below.
X-WR-RELCALID:c231e08b812e531eadfff81261c67602
X-WR-TIMEZONE:America/Chicago
BEGIN:VTIMEZONE
TZID:America/Chicago
BEGIN:STANDARD
TZNAME:CST
DTSTART:20171105T020000
TZOFFSETFROM:-0500
TZOFFSETTO:-0600
RDATE:20181104T020000
RDATE:20191103T020000
END:STANDARD
BEGIN:DAYLIGHT
TZNAME:CDT
DTSTART:20180311T020000
TZOFFSETFROM:-0600
TZOFFSETTO:-0500
RDATE:20190310T020000
END:DAYLIGHT
END:VTIMEZONE
BEGIN:VEVENT
UID:5d9246ed-c4ef-4e41-9d7b-868a25fb0dab
DTSTAMP:20260421T150733Z
DESCRIPTION:The Social Role Valorization Workshop is designed to assist par
 ticipants to better understand the lives of people who are marginalized an
 d devalued in our society\, learn about the concept of Social Role Valoriz
 ation\, have an opportunity to examine personal values and commitments to 
 those who are devalued\, and renew passionate commitment to these individu
 als. The workshop will be presented by Darcy Elks\, M.A.\, who has extensi
 ve experience with those who are societally devalued and has worked throug
 hout the United States\, Canada\, and Australia. Additionally\, Darcy has 
 been an active advocate for persons with disabilities. Anyone who seriousl
 y desires to gain a deeper understanding of societal devaluation and desir
 es to work to make life better for such persons is welcome to attend the S
 ocial Role Valorization Workshop. If you are interested in attending\, see
  the flyer and registration forms below.
DTSTART;TZID=America/Chicago:20180725T080000
DTEND;TZID=America/Chicago:20180727T180000
LOCATION:Nebraska Wesleyan University
SUMMARY:2018 Social Role Valorization Workshop
END:VEVENT
END:VCALENDAR
