BEGIN:VCALENDAR
VERSION:2.0
PRODID:-//www.disabilityrightsnebraska.org//NONSGML kigkonsult.se iCalcreat
 or 2.30.10//
CALSCALE:GREGORIAN
METHOD:PUBLISH
UID:5d2bb862-7873-4bbb-bf7b-cb4fb31a2992
X-WR-CALDESC:Nearly 250\,000 people with disabilities in the U.S. are being
  paid less than minimum wage\, sometimes as little as $2 an hour\, by appl
 ying for an exception to the Fair Labor Standards Act that applies exclusi
 vely to workers with disabilities.  \n\nDisability Rights Nebraska will be
  hosting a free screening of the documentary Bottom Dollars\, a documentar
 y from Disability Rights Washington that describes how people with disabil
 ities are paid sub-minimum wage due to the disability exception to the lab
 or standards. Through personal stories and expert interviews with advocate
 s\, the film intends to empower advocates and policymakers looking at the 
 needs of workers and to start focusing on giving workers with disabilities
  a fair wage and inclusive employment.\n\nThe screening will be held Septe
 mber 20\, 2018\, from 6:00 -7:30 PM\, in the 5th Floor Conference Room of 
 the Lincoln Community Foundation building.  Doors open at 6:00\, with the 
 movie starting at 6:30 PM. The Lincoln Community Foundation is located at 
 215 Centennial Mall South\, Lincoln\, NE.  The conference room is directly
  across from the elevators.  The screening is free and open to the public\
 , although we would ask that you register here first.  Light refreshments 
 will be available.
X-WR-RELCALID:00c8c440a971ac0471902b5815ea17fa
X-WR-TIMEZONE:America/Chicago
BEGIN:VTIMEZONE
TZID:America/Chicago
BEGIN:STANDARD
TZNAME:CST
DTSTART:20171105T020000
TZOFFSETFROM:-0500
TZOFFSETTO:-0600
RDATE:20181104T020000
RDATE:20191103T020000
END:STANDARD
BEGIN:DAYLIGHT
TZNAME:CDT
DTSTART:20180311T020000
TZOFFSETFROM:-0600
TZOFFSETTO:-0500
RDATE:20190310T020000
RDATE:20200308T020000
END:DAYLIGHT
END:VTIMEZONE
BEGIN:VEVENT
UID:f8b7fbb8-5897-4841-a413-ddff5be3e614
DTSTAMP:20260421T115708Z
DESCRIPTION:Nearly 250\,000 people with disabilities in the U.S. are being 
 paid less than minimum wage\, sometimes as little as $2 an hour\, by apply
 ing for an exception to the Fair Labor Standards Act that applies exclusiv
 ely to workers with disabilities.  \n\nDisability Rights Nebraska will be 
 hosting a free screening of the documentary Bottom Dollars\, a documentary
  from Disability Rights Washington that describes how people with disabili
 ties are paid sub-minimum wage due to the disability exception to the labo
 r standards. Through personal stories and expert interviews with advocates
 \, the film intends to empower advocates and policymakers looking at the n
 eeds of workers and to start focusing on giving workers with disabilities 
 a fair wage and inclusive employment.\n\nThe screening will be held Septem
 ber 20\, 2018\, from 6:00 -7:30 PM\, in the 5th Floor Conference Room of t
 he Lincoln Community Foundation building.  Doors open at 6:00\, with the m
 ovie starting at 6:30 PM. The Lincoln Community Foundation is located at 2
 15 Centennial Mall South\, Lincoln\, NE.  The conference room is directly 
 across from the elevators.  The screening is free and open to the public\,
  although we would ask that you register here first.  Light refreshments w
 ill be available.
DTSTART;TZID=America/Chicago:20180920T170000
DTEND;TZID=America/Chicago:20180920T210000
LOCATION:Lincoln Community Foundation Building - Large Conference Room
SUMMARY:Bottom Dollars: A Rooted in Rights Original Documentary Public Scre
 ening
END:VEVENT
END:VCALENDAR
