BEGIN:VCALENDAR
VERSION:2.0
PRODID:-//www.disabilityrightsnebraska.org//NONSGML kigkonsult.se iCalcreat
 or 2.30.10//
CALSCALE:GREGORIAN
METHOD:PUBLISH
UID:b03abd7a-18be-4364-bd70-41f3951fea5e
X-WR-CALDESC:4th annual state town hall tour! Topics will include\, to name
  a few: upcoming Medicaid Home and Community Based Services DD Waiver prog
 ram changes\, National Core Indicator Adult Consumer Satisfaction Survey r
 esults\, and hear from you on what is working and not working so well with
 in the Division of Developmental Disabilities.
X-WR-RELCALID:0ec0dfebf487d03b8d0a05fbbb4533c8
X-WR-TIMEZONE:America/Chicago
BEGIN:VTIMEZONE
TZID:America/Chicago
BEGIN:STANDARD
TZNAME:CST
DTSTART:20171105T020000
TZOFFSETFROM:-0500
TZOFFSETTO:-0600
RDATE:20181104T020000
RDATE:20191103T020000
END:STANDARD
BEGIN:DAYLIGHT
TZNAME:CDT
DTSTART:20180311T020000
TZOFFSETFROM:-0600
TZOFFSETTO:-0500
RDATE:20190310T020000
RDATE:20200308T020000
END:DAYLIGHT
END:VTIMEZONE
BEGIN:VEVENT
UID:53bf8c2b-1d99-4ab6-825f-6b18175abceb
DTSTAMP:20260421T115836Z
DESCRIPTION:4th annual state town hall tour! Topics will include\, to name 
 a few: upcoming Medicaid Home and Community Based Services DD Waiver progr
 am changes\, National Core Indicator Adult Consumer Satisfaction Survey re
 sults\, and hear from you on what is working and not working so well withi
 n the Division of Developmental Disabilities.
DTSTART;TZID=America/Chicago:20180927T180000
DTEND;TZID=America/Chicago:20180927T200000
LOCATION:Sump Library\, 222 N. Jefferson St.  Papillion NE
SUMMARY:DD Services Town Hall Meeting
END:VEVENT
END:VCALENDAR
