BEGIN:VCALENDAR
VERSION:2.0
PRODID:-//www.disabilityrightsnebraska.org//NONSGML kigkonsult.se iCalcreat
 or 2.30.10//
CALSCALE:GREGORIAN
METHOD:PUBLISH
UID:c0d5f3b3-9407-4176-93aa-b8c528d600ea
X-WR-CALDESC:Learn about the different agencies in our community that can h
 elp with disability related services. This will be an open house setting. 
 Light snack and water provided.
X-WR-RELCALID:914abf7eeca660dcd8e61ec5fad62e92
X-WR-TIMEZONE:America/Chicago
BEGIN:VTIMEZONE
TZID:America/Chicago
BEGIN:STANDARD
TZNAME:CST
DTSTART:20171105T020000
TZOFFSETFROM:-0500
TZOFFSETTO:-0600
RDATE:20181104T020000
RDATE:20191103T020000
END:STANDARD
BEGIN:DAYLIGHT
TZNAME:CDT
DTSTART:20180311T020000
TZOFFSETFROM:-0600
TZOFFSETTO:-0500
RDATE:20190310T020000
RDATE:20200308T020000
END:DAYLIGHT
END:VTIMEZONE
BEGIN:VEVENT
UID:b5a981ae-9b3b-4061-9877-1575237eb5d8
DTSTAMP:20260419T141449Z
DESCRIPTION:Learn about the different agencies in our community that can he
 lp with disability related services. This will be an open house setting. L
 ight snack and water provided.
DTSTART;TZID=America/Chicago:20181004T130000
DTEND;TZID=America/Chicago:20181004T150000
LOCATION:Kearney Public Library *The Platte Rooms* 2020 1st Ave  Kearney NE
SUMMARY:Community Connections 3rd Annual People with Disabilities Agency Fa
 ir
END:VEVENT
END:VCALENDAR
