BEGIN:VCALENDAR
VERSION:2.0
PRODID:-//www.disabilityrightsnebraska.org//NONSGML kigkonsult.se iCalcreat
 or 2.30.10//
CALSCALE:GREGORIAN
METHOD:PUBLISH
UID:42f1edb4-9f68-436b-af90-b11068d7c6fd
X-WR-CALDESC:Our next CAB meeting is October 5th.  To help you prepare for 
 our meeting\, you will find the following attachments:\n\n-Agenda\n-Minute
 s from both April CAB meeting and Tri-Board meeting\n-“CAB Feedback” (Summ
 ary of workgroup questions related to satisfaction/future directions of CA
 B from April meeting)\n-Directions to our meeting\n- The consumer-friendly
  2016-2017 National Core Indicators (NCI) report is now available:\nhttps:
 //www.nationalcoreindicators.org/upload/state-reports/Nebraska_Report.pdf
 \n
X-WR-RELCALID:d07ef2e4c4d0baa66d156701abbaaa59
X-WR-TIMEZONE:America/Chicago
BEGIN:VTIMEZONE
TZID:America/Chicago
BEGIN:STANDARD
TZNAME:CST
DTSTART:20171105T020000
TZOFFSETFROM:-0500
TZOFFSETTO:-0600
RDATE:20181104T020000
RDATE:20191103T020000
END:STANDARD
BEGIN:DAYLIGHT
TZNAME:CDT
DTSTART:20180311T020000
TZOFFSETFROM:-0600
TZOFFSETTO:-0500
RDATE:20190310T020000
RDATE:20200308T020000
END:DAYLIGHT
END:VTIMEZONE
BEGIN:VEVENT
UID:5aab5212-77d2-41cf-927f-e47802074d54
DTSTAMP:20260419T141607Z
DESCRIPTION:Our next CAB meeting is October 5th.  To help you prepare for o
 ur meeting\, you will find the following attachments:\n\n-Agenda\n-Minutes
  from both April CAB meeting and Tri-Board meeting\n-“CAB Feedback” (Summa
 ry of workgroup questions related to satisfaction/future directions of CAB
  from April meeting)\n-Directions to our meeting\n- The consumer-friendly 
 2016-2017 National Core Indicators (NCI) report is now available:\nhttps:/
 /www.nationalcoreindicators.org/upload/state-reports/Nebraska_Report.pdf\n
DTSTART;TZID=America/Chicago:20181005T000000
DTEND;TZID=America/Chicago:20181005T235900
LOCATION:Storz Pavillion Banquet Room #1 & 2
SUMMARY:CAB Meeting
END:VEVENT
END:VCALENDAR
