BEGIN:VCALENDAR
VERSION:2.0
PRODID:-//www.disabilityrightsnebraska.org//NONSGML kigkonsult.se iCalcreat
 or 2.30.10//
CALSCALE:GREGORIAN
METHOD:PUBLISH
UID:756c8f1e-591e-4c13-8db7-49ff3ddf297e
X-WR-CALDESC:40 Years of Disability Self Advocacy!\n1978: Anything is Possi
 ble\n2018:  Bigger Bolder\, Better!\n\nKeynote Speaker:  Nancy Ward\, Foun
 ding Member of People First of Nebraska\n\nPeople First of Nebraska  is ex
 cited to announce that the NEBRASKA DD PLANNING COUNCIL is providing funds
  to reduce the cost of the PFN convention for ALL Nebraskans with disabili
 ties and their staff!   Scholarships are still available so register now!!
 !\n
X-WR-RELCALID:8a33b8f7efdb9ffadbe7f723cd35e91f
X-WR-TIMEZONE:America/Chicago
BEGIN:VTIMEZONE
TZID:America/Chicago
BEGIN:STANDARD
TZNAME:CST
DTSTART:20171105T020000
TZOFFSETFROM:-0500
TZOFFSETTO:-0600
RDATE:20181104T020000
RDATE:20191103T020000
END:STANDARD
BEGIN:DAYLIGHT
TZNAME:CDT
DTSTART:20180311T020000
TZOFFSETFROM:-0600
TZOFFSETTO:-0500
RDATE:20190310T020000
RDATE:20200308T020000
END:DAYLIGHT
END:VTIMEZONE
BEGIN:VEVENT
UID:28bbe8e2-b8bd-4d15-a62a-3d33108030d7
DTSTAMP:20260419T141700Z
DESCRIPTION:40 Years of Disability Self Advocacy!\n1978: Anything is Possib
 le\n2018:  Bigger Bolder\, Better!\n\nKeynote Speaker:  Nancy Ward\, Found
 ing Member of People First of Nebraska\n\nPeople First of Nebraska  is exc
 ited to announce that the NEBRASKA DD PLANNING COUNCIL is providing funds 
 to reduce the cost of the PFN convention for ALL Nebraskans with disabilit
 ies and their staff!   Scholarships are still available so register now!!!
 \n
DTSTART;TZID=America/Chicago:20181012T000000
DTEND;TZID=America/Chicago:20181014T235900
LOCATION:Holiday Inn Convention Center\, Kearney\, NE
SUMMARY:People First of Nebraska Annual Convention
END:VEVENT
END:VCALENDAR
