BEGIN:VCALENDAR
VERSION:2.0
PRODID:-//www.disabilityrightsnebraska.org//NONSGML kigkonsult.se iCalcreat
 or 2.30.10//
CALSCALE:GREGORIAN
METHOD:PUBLISH
UID:1cb57c4d-4ea1-4736-a5a2-e04586b8206a
X-WR-CALDESC:From award-winning filmmaker Dan Habib comes INTELLIGENT LIVES
 \, a catalyst to transform the label of intellectual disability from a lif
 e sentence of isolation into a life of possibility for the most systematic
 ally segregated people in America. INTELLIGENT LIVES stars three pioneerin
 g young American adults with intellectual disabilities - Micah\, Naieer\, 
 and Naomie - who challenge perceptions of intelligence as they navigate hi
 gh school\, college\, and the workforce. Academy Award-winning actor and n
 arrator Chris Cooper contextualizes the lives of these central characters 
 through the emotional personal story of his son Jesse\, as the film unpack
 s the shameful and ongoing track record of intelligence testing in the U.S
 . INTELLIGENT LIVES challenges what it means to be intelligent\, and point
 s to a future in which people of all abilities can fully participate in hi
 gher education\, meaningful employment and intimate relationships.\n\nBeca
 use of funding from the Nebraska Planning Council on Developmental Disabil
 ities and a generous partnership with ESU 13 and the Midwest Theater\, the
 re is no cost to attend.  Please spread the word!
X-WR-RELCALID:aeb0a6760dacbbdf95c0a7c37ede69b9
X-WR-TIMEZONE:America/Chicago
BEGIN:VTIMEZONE
TZID:America/Chicago
BEGIN:STANDARD
TZNAME:CST
DTSTART:20171105T020000
TZOFFSETFROM:-0500
TZOFFSETTO:-0600
RDATE:20181104T020000
RDATE:20191103T020000
END:STANDARD
BEGIN:DAYLIGHT
TZNAME:CDT
DTSTART:20180311T020000
TZOFFSETFROM:-0600
TZOFFSETTO:-0500
RDATE:20190310T020000
RDATE:20200308T020000
END:DAYLIGHT
END:VTIMEZONE
BEGIN:VEVENT
UID:7d9ab07b-b0fb-40ef-b7f9-94114245dafd
DTSTAMP:20260419T141241Z
DESCRIPTION:From award-winning filmmaker Dan Habib comes INTELLIGENT LIVES\
 , a catalyst to transform the label of intellectual disability from a life
  sentence of isolation into a life of possibility for the most systematica
 lly segregated people in America. INTELLIGENT LIVES stars three pioneering
  young American adults with intellectual disabilities - Micah\, Naieer\, a
 nd Naomie - who challenge perceptions of intelligence as they navigate hig
 h school\, college\, and the workforce. Academy Award-winning actor and na
 rrator Chris Cooper contextualizes the lives of these central characters t
 hrough the emotional personal story of his son Jesse\, as the film unpacks
  the shameful and ongoing track record of intelligence testing in the U.S.
  INTELLIGENT LIVES challenges what it means to be intelligent\, and points
  to a future in which people of all abilities can fully participate in hig
 her education\, meaningful employment and intimate relationships.\n\nBecau
 se of funding from the Nebraska Planning Council on Developmental Disabili
 ties and a generous partnership with ESU 13 and the Midwest Theater\, ther
 e is no cost to attend.  Please spread the word!
DTSTART;TZID=America/Chicago:20181025T193000
DTEND;TZID=America/Chicago:20181025T203000
LOCATION:Midwest Theater\, 1707 Broadway\, Scottsbluff\, NE
SUMMARY:Intelligent Lives - FREE Movie Screening
END:VEVENT
END:VCALENDAR
