BEGIN:VCALENDAR
VERSION:2.0
PRODID:-//www.disabilityrightsnebraska.org//NONSGML kigkonsult.se iCalcreat
 or 2.30.10//
CALSCALE:GREGORIAN
METHOD:PUBLISH
UID:a42ca94f-9b40-4548-a5bf-e9e35044e2d7
X-WR-CALDESC:This webinar is the second in a series of three webinars  high
 lighting innovative strategies and approaches that states are taking to im
 plement federal settings criteria for home and community-based services (H
 CBS). It is titled Promising State Strategies for Working with Providers t
 o Meet the HCBS Settings Criteria & Promote Optimal Community Integration.
  The presentation will provide a review of promising practices states are 
 using (in partnership with stakeholders) provider transformation\, as well
  as state strategies to build provider capacity to improve community integ
 ration and increase the availability of non-disability specific settings. 
 You can register for this webinar by following the link at the bottom of t
 he page. \n\nThere are two other sessions in this series - one webinar was
  held on November 8\, 2018 and the other will take place on December 13\, 
 2018. For more information on these sessions\, please view the aforementio
 ned dates in the Disability Rights Nebraska Event Calendar. \n\nThis webin
 ar series is provided by provided by the federal Administration for Commun
 ity Living\, in partnership with the Centers for Medicare & Medicaid Servi
 ces and other national partners. Participants must register for each of th
 e three sessions separately. This is an opportunity to learn more about th
 e home and community-based service system changes.
X-WR-RELCALID:e78855e3701a895a025461da38a8cec3
X-WR-TIMEZONE:America/Chicago
BEGIN:VTIMEZONE
TZID:America/Chicago
BEGIN:STANDARD
TZNAME:CST
DTSTART:20181104T020000
TZOFFSETFROM:-0500
TZOFFSETTO:-0600
RDATE:20191103T020000
END:STANDARD
BEGIN:DAYLIGHT
TZNAME:CDT
DTSTART:20180311T020000
TZOFFSETFROM:-0600
TZOFFSETTO:-0500
RDATE:20190310T020000
RDATE:20200308T020000
END:DAYLIGHT
END:VTIMEZONE
BEGIN:VEVENT
UID:08563baf-dbb9-467e-acc2-9b8b7f40befe
DTSTAMP:20260419T124745Z
DESCRIPTION:This webinar is the second in a series of three webinars  highl
 ighting innovative strategies and approaches that states are taking to imp
 lement federal settings criteria for home and community-based services (HC
 BS). It is titled Promising State Strategies for Working with Providers to
  Meet the HCBS Settings Criteria & Promote Optimal Community Integration. 
 The presentation will provide a review of promising practices states are u
 sing (in partnership with stakeholders) provider transformation\, as well 
 as state strategies to build provider capacity to improve community integr
 ation and increase the availability of non-disability specific settings. Y
 ou can register for this webinar by following the link at the bottom of th
 e page. \n\nThere are two other sessions in this series - one webinar was 
 held on November 8\, 2018 and the other will take place on December 13\, 2
 018. For more information on these sessions\, please view the aforemention
 ed dates in the Disability Rights Nebraska Event Calendar. \n\nThis webina
 r series is provided by provided by the federal Administration for Communi
 ty Living\, in partnership with the Centers for Medicare & Medicaid Servic
 es and other national partners. Participants must register for each of the
  three sessions separately. This is an opportunity to learn more about the
  home and community-based service system changes.
DTSTART;TZID=America/Chicago:20181129T130000
DTEND;TZID=America/Chicago:20181129T143000
LOCATION:
SUMMARY:Webinar: Promising State Strategies for Working with Providers to M
 eet the HCBS Settings Criteria & Promote Optimal Community Integration
END:VEVENT
END:VCALENDAR
