BEGIN:VCALENDAR
VERSION:2.0
PRODID:-//www.disabilityrightsnebraska.org//NONSGML kigkonsult.se iCalcreat
 or 2.30.10//
CALSCALE:GREGORIAN
METHOD:PUBLISH
UID:61c1e9c1-3e32-4993-a97b-d296c85e4007
X-WR-CALDESC:
X-WR-RELCALID:354ae75627311ea9f26b99cd040b0434
X-WR-TIMEZONE:America/Chicago
BEGIN:VTIMEZONE
TZID:America/Chicago
BEGIN:STANDARD
TZNAME:CST
DTSTART:20231105T020000
TZOFFSETFROM:-0500
TZOFFSETTO:-0600
RDATE:20241103T020000
RDATE:20251102T020000
END:STANDARD
BEGIN:DAYLIGHT
TZNAME:CDT
DTSTART:20240310T020000
TZOFFSETFROM:-0600
TZOFFSETTO:-0500
RDATE:20250309T020000
RDATE:20260308T020000
END:DAYLIGHT
END:VTIMEZONE
BEGIN:VEVENT
UID:29dd6604-1eca-40ba-9591-7e958aa85056
DTSTAMP:20260423T191613Z
DESCRIPTION:
DTSTART;TZID=America/Chicago:20240928T100000
DTEND;TZID=America/Chicago:20240928T140000
LOCATION:2930 Ridge Line Road\, Suite 205\, Lincoln\, AL 68516-6036 US
SUMMARY:Board of Directors Meeting
END:VEVENT
END:VCALENDAR
