BEGIN:VCALENDAR
VERSION:2.0
PRODID:-//www.disabilityrightsnebraska.org//NONSGML kigkonsult.se iCalcreat
 or 2.30.10//
CALSCALE:GREGORIAN
METHOD:PUBLISH
UID:0c8f7d35-d9ee-4742-812d-af22ef9c6409
X-WR-CALDESC:Have questions about Olmstead planning and community integrati
 on?\n\nPlease register for Civil Rights of People with Disabilities and Ol
 mstead v. L.C. Join Dianne DeLair\, legal services director for Disability
  Rights Nebraska\, at one of these online opportunities to learn more and 
 ask your questions.\n\nDisability Rights Nebraska is committed to creating
  an inclusive and accessible event. If you need a reasonable accommodation
 \, please contact Dianne DeLair at Dianne@drne.org or 402-413-2016.
X-WR-RELCALID:b2d31387b2d5b07cbd165d9addb943d3
X-WR-TIMEZONE:America/Chicago
BEGIN:VTIMEZONE
TZID:America/Chicago
BEGIN:STANDARD
TZNAME:CST
DTSTART:20231105T020000
TZOFFSETFROM:-0500
TZOFFSETTO:-0600
RDATE:20241103T020000
RDATE:20251102T020000
END:STANDARD
BEGIN:DAYLIGHT
TZNAME:CDT
DTSTART:20240310T020000
TZOFFSETFROM:-0600
TZOFFSETTO:-0500
RDATE:20250309T020000
RDATE:20260308T020000
END:DAYLIGHT
END:VTIMEZONE
BEGIN:VEVENT
UID:87ca88a7-9dff-47f2-b1bb-e5b5aa494848
DTSTAMP:20260423T175725Z
DESCRIPTION:Have questions about Olmstead planning and community integratio
 n?\n\nPlease register for Civil Rights of People with Disabilities and Olm
 stead v. L.C. Join Dianne DeLair\, legal services director for Disability 
 Rights Nebraska\, at one of these online opportunities to learn more and a
 sk your questions.\n\nDisability Rights Nebraska is committed to creating 
 an inclusive and accessible event. If you need a reasonable accommodation\
 , please contact Dianne DeLair at Dianne@drne.org or 402-413-2016.
DTSTART;TZID=America/Chicago:20241015T130000
DTEND;TZID=America/Chicago:20241015T141500
LOCATION:https://us06web.zoom.us/meeting/register/tZMudeqtrDgvHNFEhVvs8RZIz
 3cKM2dXE2bA#/registration
SUMMARY:Do you want to learn more about the Olmstead v. L.C. decision and t
 he Americans with Disabilities Act?
END:VEVENT
END:VCALENDAR
