BEGIN:VCALENDAR
VERSION:2.0
PRODID:-//www.disabilityrightsnebraska.org//NONSGML kigkonsult.se iCalcreat
 or 2.30.10//
CALSCALE:GREGORIAN
METHOD:PUBLISH
UID:52624099-1fec-4c1d-be38-8832938bb448
X-WR-CALDESC:Have questions about Olmstead planning and community integrati
 on?\n\nPlease register for Civil Rights of People with Disabilities and Ol
 mstead v. L.C. Join Dianne DeLair\, legal services director for Disability
  Rights Nebraska\, at one of these online opportunities to learn more and 
 ask your questions.\n\nDisability Rights Nebraska is committed to creating
  an inclusive and accessible event. If you need a reasonable accommodation
 \, please contact Dianne DeLair at Dianne@drne.org or 402-413-2016.
X-WR-RELCALID:50a4ec6ba25bc5734813b38ef1c74805
X-WR-TIMEZONE:America/Chicago
BEGIN:VTIMEZONE
TZID:America/Chicago
BEGIN:STANDARD
TZNAME:CST
DTSTART:20231105T020000
TZOFFSETFROM:-0500
TZOFFSETTO:-0600
RDATE:20241103T020000
RDATE:20251102T020000
END:STANDARD
BEGIN:DAYLIGHT
TZNAME:CDT
DTSTART:20240310T020000
TZOFFSETFROM:-0600
TZOFFSETTO:-0500
RDATE:20250309T020000
RDATE:20260308T020000
END:DAYLIGHT
END:VTIMEZONE
BEGIN:VEVENT
UID:a8641d07-9bfd-4f92-907e-4bcd7669bc1b
DTSTAMP:20260423T175852Z
DESCRIPTION:Have questions about Olmstead planning and community integratio
 n?\n\nPlease register for Civil Rights of People with Disabilities and Olm
 stead v. L.C. Join Dianne DeLair\, legal services director for Disability 
 Rights Nebraska\, at one of these online opportunities to learn more and a
 sk your questions.\n\nDisability Rights Nebraska is committed to creating 
 an inclusive and accessible event. If you need a reasonable accommodation\
 , please contact Dianne DeLair at Dianne@drne.org or 402-413-2016.
DTSTART;TZID=America/Chicago:20241021T180000
DTEND;TZID=America/Chicago:20241021T191500
LOCATION:https://us06web.zoom.us/meeting/register/tZMtc-itrT4qGtUj3OvoyQ5BX
 7m20NnUIdcG#/registration
SUMMARY:Do you want to learn more about the Olmstead v. L.C. decision and t
 he Americans with Disabilities Act?
END:VEVENT
END:VCALENDAR
