BEGIN:VCALENDAR
VERSION:2.0
PRODID:-//www.disabilityrightsnebraska.org//NONSGML kigkonsult.se iCalcreat
 or 2.30.10//
CALSCALE:GREGORIAN
METHOD:PUBLISH
UID:bcca0154-124b-407a-b90a-6853f1bcbd28
X-WR-CALDESC:Workshop Overview:\nExplore strategies for helping people deve
 lop valued social roles that will open access to the Good Things of Life.
 \n\nBuilding on the work of Dr. Wolf Wolfensberger\, this workshop will pr
 ovide participants with common-sense strategies to help people access the 
 valued roles they would like to have in their communities.\n\nJoin us In P
 erson or via Zoom\n\nIn Person Locations:\n•	Disability Rights Nebraska  \n
   	2930 Ridge Line Road\, Suite 205  \n        Lincoln\, NE 68516\n\n•	Norfo
 lk Public Library  \n 	308 Prospect Ave  \n  	Norfolk\, NE 68701\n\n•	Scottsb
 luff (location to be determined)\n\nZoom: Link will be sent separately.\n
 \nDates and Times:\n•	Wednesday\, October 23 from 1:00 – 4:00 pm\n•	Thursday
 \, November 7 from 1:00 – 4:00 pm\n•	Monday\, November 18 from 1:00 – 4:00 
 pm\n\nDon't miss out on this valuable opportunity!
X-WR-RELCALID:eb2e9291905843050a62374618f1b84b
X-WR-TIMEZONE:America/Chicago
BEGIN:VTIMEZONE
TZID:America/Chicago
BEGIN:STANDARD
TZNAME:CST
DTSTART:20231105T020000
TZOFFSETFROM:-0500
TZOFFSETTO:-0600
RDATE:20241103T020000
RDATE:20251102T020000
END:STANDARD
BEGIN:DAYLIGHT
TZNAME:CDT
DTSTART:20240310T020000
TZOFFSETFROM:-0600
TZOFFSETTO:-0500
RDATE:20250309T020000
RDATE:20260308T020000
END:DAYLIGHT
END:VTIMEZONE
BEGIN:VEVENT
UID:3251df6f-d2a3-4f3e-9e59-0d5af3bc4581
DTSTAMP:20260423T175614Z
DESCRIPTION:Workshop Overview:\nExplore strategies for helping people devel
 op valued social roles that will open access to the Good Things of Life.\n
 \nBuilding on the work of Dr. Wolf Wolfensberger\, this workshop will prov
 ide participants with common-sense strategies to help people access the va
 lued roles they would like to have in their communities.\n\nJoin us In Per
 son or via Zoom\n\nIn Person Locations:\n•	Disability Rights Nebraska  \n  
 	2930 Ridge Line Road\, Suite 205  \n        Lincoln\, NE 68516\n\n•	Norfolk
  Public Library  \n 	308 Prospect Ave  \n  	Norfolk\, NE 68701\n\n•	Scottsblu
 ff (location to be determined)\n\nZoom: Link will be sent separately.\n\nD
 ates and Times:\n•	Wednesday\, October 23 from 1:00 – 4:00 pm\n•	Thursday\, 
 November 7 from 1:00 – 4:00 pm\n•	Monday\, November 18 from 1:00 – 4:00 pm
 \n\nDon't miss out on this valuable opportunity!
DTSTART;TZID=America/Chicago:20241023T130000
DTEND;TZID=America/Chicago:20241023T160000
LOCATION:
SUMMARY:Building Valued Social Roles - Three Session Workshop
END:VEVENT
END:VCALENDAR
