BEGIN:VCALENDAR
VERSION:2.0
PRODID:-//www.disabilityrightsnebraska.org//NONSGML kigkonsult.se iCalcreat
 or 2.30.10//
CALSCALE:GREGORIAN
METHOD:PUBLISH
UID:caffba8c-b214-4e4c-84c6-24f99fab22ef
X-WR-CALDESC:
X-WR-RELCALID:83222db7979d39ba8fe9865eea0c34fc
X-WR-TIMEZONE:America/Chicago
BEGIN:VTIMEZONE
TZID:America/Chicago
BEGIN:STANDARD
TZNAME:CST
DTSTART:20241103T020000
TZOFFSETFROM:-0500
TZOFFSETTO:-0600
RDATE:20251102T020000
END:STANDARD
BEGIN:DAYLIGHT
TZNAME:CDT
DTSTART:20240310T020000
TZOFFSETFROM:-0600
TZOFFSETTO:-0500
RDATE:20250309T020000
RDATE:20260308T020000
END:DAYLIGHT
END:VTIMEZONE
BEGIN:VEVENT
UID:7eb5280b-5e92-4c0e-8669-3ced3c697a3a
DTSTAMP:20260423T161320Z
DESCRIPTION:
DTSTART;TZID=America/Chicago:20241109T100000
DTEND;TZID=America/Chicago:20241109T140000
LOCATION:2930 Ridge Line Road\, Suite 205\, Lincoln\, AL 68516-6036 US
SUMMARY:Board of Directors Meeting
END:VEVENT
END:VCALENDAR
