BEGIN:VCALENDAR
VERSION:2.0
PRODID:-//www.disabilityrightsnebraska.org//NONSGML kigkonsult.se iCalcreat
 or 2.30.10//
CALSCALE:GREGORIAN
METHOD:PUBLISH
UID:017b8556-9fbb-4627-bc7c-2f153427f7c9
X-WR-CALDESC:We hope that you consider supporting Disability Rights Nebrask
 a this Give to Lincoln Day! Give to Lincoln day is May 29.
X-WR-RELCALID:3aaf1869f4e2e25c45d205bf459fbd02
X-WR-TIMEZONE:America/Chicago
BEGIN:VTIMEZONE
TZID:America/Chicago
BEGIN:STANDARD
TZNAME:CST
DTSTART:20241103T020000
TZOFFSETFROM:-0500
TZOFFSETTO:-0600
RDATE:20251102T020000
RDATE:20261101T020000
END:STANDARD
BEGIN:DAYLIGHT
TZNAME:CDT
DTSTART:20250309T020000
TZOFFSETFROM:-0600
TZOFFSETTO:-0500
RDATE:20260308T020000
END:DAYLIGHT
END:VTIMEZONE
BEGIN:VEVENT
UID:55285723-b0f4-4eea-9a1f-2e432d9cbc07
DTSTAMP:20260423T071332Z
DESCRIPTION:We hope that you consider supporting Disability Rights Nebraska
  this Give to Lincoln Day! Give to Lincoln day is May 29.
DTSTART;TZID=America/Chicago:20250529T000000
DTEND;TZID=America/Chicago:20250529T235900
LOCATION:https://www.givetolincoln.com/nonprofits/disability-rights-nebrask
 a
SUMMARY:Give to Lincoln 2025
END:VEVENT
END:VCALENDAR
