BEGIN:VCALENDAR
VERSION:2.0
PRODID:-//www.disabilityrightsnebraska.org//NONSGML kigkonsult.se iCalcreat
 or 2.30.10//
CALSCALE:GREGORIAN
METHOD:PUBLISH
UID:bfe7ab6c-9aa8-4f71-ab86-9e2f51711f3b
X-WR-CALDESC:The Enable account is a program that allows people who experie
 nce a disability to:\n-Save and invest without a negative impact on your S
 ocial Security or Medicaid benefits\n-Deposit up to $19\,000 per year star
 ting January 1\, 2025\n-Receive donations to your account\, which is a tax
  deduction for the donor\n-Do you have a special need? Enable can create a
  crowdsource fund that won’t impact benefits\n-Save even more if you are c
 urrently employed.\n\nProtect your benefits and save with Enable! \n\nJoin
  a virtual Enable Account Training to learn how you may benefit and more. 
 \nDate: July 17\, 2025  \nTime: 6:30 PM - 8:00PM via Zoom
X-WR-RELCALID:1ca34f3cc3d7d12c7ca0e23594dfc83f
X-WR-TIMEZONE:America/Chicago
BEGIN:VTIMEZONE
TZID:America/Chicago
BEGIN:STANDARD
TZNAME:CST
DTSTART:20241103T020000
TZOFFSETFROM:-0500
TZOFFSETTO:-0600
RDATE:20251102T020000
RDATE:20261101T020000
END:STANDARD
BEGIN:DAYLIGHT
TZNAME:CDT
DTSTART:20250309T020000
TZOFFSETFROM:-0600
TZOFFSETTO:-0500
RDATE:20260308T020000
END:DAYLIGHT
END:VTIMEZONE
BEGIN:VEVENT
UID:a4ba1bba-dad3-40c6-aafb-96ac55feeee8
DTSTAMP:20260423T040119Z
DESCRIPTION:The Enable account is a program that allows people who experien
 ce a disability to:\n-Save and invest without a negative impact on your So
 cial Security or Medicaid benefits\n-Deposit up to $19\,000 per year start
 ing January 1\, 2025\n-Receive donations to your account\, which is a tax 
 deduction for the donor\n-Do you have a special need? Enable can create a 
 crowdsource fund that won’t impact benefits\n-Save even more if you are cu
 rrently employed.\n\nProtect your benefits and save with Enable! \n\nJoin 
 a virtual Enable Account Training to learn how you may benefit and more. 
 \nDate: July 17\, 2025  \nTime: 6:30 PM - 8:00PM via Zoom
DTSTART;TZID=America/Chicago:20250717T183000
DTEND;TZID=America/Chicago:20250717T200000
LOCATION:https://tectonicchangeinc.org/events/?fldEventID=1167937
SUMMARY:Have you heard of the Enable Account?
END:VEVENT
END:VCALENDAR
