BEGIN:VCALENDAR
VERSION:2.0
PRODID:-//www.disabilityrightsnebraska.org//NONSGML kigkonsult.se iCalcreat
 or 2.30.10//
CALSCALE:GREGORIAN
METHOD:PUBLISH
UID:5ecfff19-1af5-4452-a27c-ee832faec19d
X-WR-CALDESC:Celebrating People with Disabilities. How far we have come and
  how far we will go.
X-WR-RELCALID:7ca9c49a079d637e48220fc23b6938c7
X-WR-TIMEZONE:America/Chicago
BEGIN:VTIMEZONE
TZID:America/Chicago
BEGIN:STANDARD
TZNAME:CST
DTSTART:20241103T020000
TZOFFSETFROM:-0500
TZOFFSETTO:-0600
RDATE:20251102T020000
RDATE:20261101T020000
END:STANDARD
BEGIN:DAYLIGHT
TZNAME:CDT
DTSTART:20250309T020000
TZOFFSETFROM:-0600
TZOFFSETTO:-0500
RDATE:20260308T020000
END:DAYLIGHT
END:VTIMEZONE
BEGIN:VEVENT
UID:f4754683-12b0-4d6b-b19c-48dceaf6e182
DTSTAMP:20260423T040834Z
DESCRIPTION:Celebrating People with Disabilities. How far we have come and 
 how far we will go.
DTSTART;TZID=America/Chicago:20250726T090000
DTEND;TZID=America/Chicago:20250726T130000
LOCATION:Antelope Park Auld Pavilion\, 1560 Memorial Drive\, Lincoln\, NE 6
 8510 US
SUMMARY:Nebraska Disability Pride Celebration
END:VEVENT
END:VCALENDAR
