BEGIN:VCALENDAR
VERSION:2.0
PRODID:-//www.disabilityrightsnebraska.org//NONSGML kigkonsult.se iCalcreat
 or 2.30.10//
CALSCALE:GREGORIAN
METHOD:PUBLISH
UID:56c3b65e-eef9-4888-aa63-fd31f9b8018d
X-WR-CALDESC:WHAT IS SOCIAL ROLE VALORIZATION? \nThe theory of Social Role 
 Valorization grew out of the concept of  “normalization.” This introductor
 y workshop will present (a) the common life experiences of people who are 
 marginalized and devalued in our society\, and (b) strategies to address s
 ome of these experiences in order to support people to become valued membe
 rs of the community.\n\nTHE WORKSHOP IS DESIGNED TO ASSIST PARTICIPANTS TO
 :\n- Reflect on devaluation and its effect on people who are at risk.\n- L
 earn about Social Role Valorization-an organized way of addressing social 
 devaluation.\n- Examine personal values and commitments to people who are 
 devalued.\n- Renew your passionate commitment to marginalized and devalued
  people.\n\nWHO SHOULD ATTEND? \nAnyone seeking to gain a deeper understan
 ding of the dynamics and consequences of societal devaluation\, e.g.\, hum
 an service workers\, people with disabilities\, educators\, advocates\, an
 d family members.\n\nWORKSHOP LEADER\nThe workshop will be presented by Pa
 m Seetoo. Pam has worked to assist people to live rich\, full community li
 ves since 1990. Over the course of her life’s work\, she has assisted peop
 le to leave institutions and establish themselves in their communities\, s
 upported children and families within foster care and host home programs\,
  provided service leadership\, and focused on values-based education and f
 acilitation.\n\nPam has co-lead several Social Role Valorization (SRV) in 
 Nebraska. She leads small group learning and has been a team leader at PAS
 SING events through her work at the Keystone Institute. She has a strong i
 nterest in preserving and safeguarding the personal histories of people wi
 th disability and has developed workshops around this topic. Pam is accred
 ited as an SRV teacher by the North American Social Role Valorization Coun
 cil.\n\nWHEN AND WHERE WILL THE WORKSHOP BE HELD? \nThe Social Role Valori
 zation workshop will be held on August 5-7\, 2025 at Nebraska Wesleyan Uni
 versity in Lincoln.  \n\nHOW MUCH WILL IT COST TO ATTEND?\n	The registratio
 n fee for attending the Social Role Valorization workshop is $250.00 per r
 egistrant. Organizations that register five or more individuals will be ch
 arged a $199.00 fee per registrant. \n\nREGISTRATION MATERIALS:  \nContact
  Disability Rights Nebraska for registration materials. Registration forms
  are also available on Disability Rights Nebraska’s website. \n\nIS ATTEND
 ANCE LIMITED?  \nAttendance at the Social Role Valorization workshop will 
 be limited to 50 attendees.\n\nFULL PARTICIPATION AND ATTENDANCE IS REQUIR
 ED \nParticipants should arrive well-rested and plan to be free of outside
  commitments for this workshop. If you register to attend\, please plan on
  attending required discussion and work sessions lasting into the evening.
X-WR-RELCALID:4cb46b7bc2499448be2affeac4ed8413
X-WR-TIMEZONE:America/Chicago
BEGIN:VTIMEZONE
TZID:America/Chicago
BEGIN:STANDARD
TZNAME:CST
DTSTART:20241103T020000
TZOFFSETFROM:-0500
TZOFFSETTO:-0600
RDATE:20251102T020000
RDATE:20261101T020000
END:STANDARD
BEGIN:DAYLIGHT
TZNAME:CDT
DTSTART:20250309T020000
TZOFFSETFROM:-0600
TZOFFSETTO:-0500
RDATE:20260308T020000
END:DAYLIGHT
END:VTIMEZONE
BEGIN:VEVENT
UID:ba60b42b-4014-4f4b-967c-7a21d4f480f3
DTSTAMP:20260423T021932Z
DESCRIPTION:WHAT IS SOCIAL ROLE VALORIZATION? \nThe theory of Social Role V
 alorization grew out of the concept of  “normalization.” This introductory
  workshop will present (a) the common life experiences of people who are m
 arginalized and devalued in our society\, and (b) strategies to address so
 me of these experiences in order to support people to become valued member
 s of the community.\n\nTHE WORKSHOP IS DESIGNED TO ASSIST PARTICIPANTS TO:
 \n- Reflect on devaluation and its effect on people who are at risk.\n- Le
 arn about Social Role Valorization-an organized way of addressing social d
 evaluation.\n- Examine personal values and commitments to people who are d
 evalued.\n- Renew your passionate commitment to marginalized and devalued 
 people.\n\nWHO SHOULD ATTEND? \nAnyone seeking to gain a deeper understand
 ing of the dynamics and consequences of societal devaluation\, e.g.\, huma
 n service workers\, people with disabilities\, educators\, advocates\, and
  family members.\n\nWORKSHOP LEADER\nThe workshop will be presented by Pam
  Seetoo. Pam has worked to assist people to live rich\, full community liv
 es since 1990. Over the course of her life’s work\, she has assisted peopl
 e to leave institutions and establish themselves in their communities\, su
 pported children and families within foster care and host home programs\, 
 provided service leadership\, and focused on values-based education and fa
 cilitation.\n\nPam has co-lead several Social Role Valorization (SRV) in N
 ebraska. She leads small group learning and has been a team leader at PASS
 ING events through her work at the Keystone Institute. She has a strong in
 terest in preserving and safeguarding the personal histories of people wit
 h disability and has developed workshops around this topic. Pam is accredi
 ted as an SRV teacher by the North American Social Role Valorization Counc
 il.\n\nWHEN AND WHERE WILL THE WORKSHOP BE HELD? \nThe Social Role Valoriz
 ation workshop will be held on August 5-7\, 2025 at Nebraska Wesleyan Univ
 ersity in Lincoln.  \n\nHOW MUCH WILL IT COST TO ATTEND?\n	The registration
  fee for attending the Social Role Valorization workshop is $250.00 per re
 gistrant. Organizations that register five or more individuals will be cha
 rged a $199.00 fee per registrant. \n\nREGISTRATION MATERIALS:  \nContact 
 Disability Rights Nebraska for registration materials. Registration forms 
 are also available on Disability Rights Nebraska’s website. \n\nIS ATTENDA
 NCE LIMITED?  \nAttendance at the Social Role Valorization workshop will b
 e limited to 50 attendees.\n\nFULL PARTICIPATION AND ATTENDANCE IS REQUIRE
 D \nParticipants should arrive well-rested and plan to be free of outside 
 commitments for this workshop. If you register to attend\, please plan on 
 attending required discussion and work sessions lasting into the evening.
DTSTART;TZID=America/Chicago:20250805T080000
DTEND;TZID=America/Chicago:20250807T170000
LOCATION:Nebraska Wesleyan University \, 5000 Saint Paul Avenue\, Lincoln\,
  NE 68504 US
SUMMARY:SOCIAL ROLE VALORIZATION WORKSHOP
END:VEVENT
END:VCALENDAR
